BEGIN:VCALENDAR
VERSION:2.0
PRODID:-//ENDE-REDD+ - ECPv4.6.26.1//NONSGML v1.0//EN
CALSCALE:GREGORIAN
METHOD:PUBLISH
X-WR-CALNAME:ENDE-REDD+
X-ORIGINAL-URL:https://www.marena.gob.ni/Enderedd
X-WR-CALDESC:Eventos para ENDE-REDD+
BEGIN:VEVENT
DTSTART;TZID=UTC+0:20200818T080000
DTEND;TZID=UTC+0:20200818T120000
DTSTAMP:20260425T193336
CREATED:20200816T170600Z
LAST-MODIFIED:20200818T221818Z
UID:5187-1597737600-1597752000@www.marena.gob.ni
SUMMARY:Taller de Consulta sobre el Plan de Distribución de Beneficios
DESCRIPTION:Taller de Consulta sobre el Plan de Distribución de Beneficios con productores de los municipios del Tortuguero y La Cruz de Rio Grande en el marco del Programa de Reducción de Emisiones. \n
URL:https://www.marena.gob.ni/Enderedd/event/taller-de-consulta-sobre-el-plan-de-distribucion-de-beneficios/
LOCATION:Matagalpa\, Yucul Instituto\, Yucul\, Matagalpa\, 34567\, Nicaragua
CATEGORIES:Reunión
ATTACH;FMTTYPE=image/jpeg:https://www.marena.gob.ni/Enderedd/wp-content/uploads/2019/11/foto-3.jpg
ORGANIZER;CN="ENDE-REDD%2B":MAILTO:enderedd@marena.gob.ni
END:VEVENT
END:VCALENDAR