BEGIN:VCALENDAR
VERSION:2.0
PRODID:-//ENDE-REDD+ - ECPv4.6.26.1//NONSGML v1.0//EN
CALSCALE:GREGORIAN
METHOD:PUBLISH
X-WR-CALNAME:ENDE-REDD+
X-ORIGINAL-URL:https://www.marena.gob.ni/Enderedd
X-WR-CALDESC:Eventos para ENDE-REDD+
BEGIN:VEVENT
DTSTART;VALUE=DATE:20200421
DTEND;VALUE=DATE:20200422
DTSTAMP:20260422T081555
CREATED:20200422T223210Z
LAST-MODIFIED:20200422T223210Z
UID:4956-1587427200-1587513599@www.marena.gob.ni
SUMMARY:Taller SIG/PI-PCN
DESCRIPTION:Sesión virtual webinar sobre Programa de Reducción de Emisiones» \n
URL:https://www.marena.gob.ni/Enderedd/event/taller-sig-pi-pcn/
LOCATION:Auditorio Naturaleza\, MARENA KM 12 1/2 Carretera Norte\, Mangua\, Managua\, 505\, Nicaragua
CATEGORIES:Talleres
ORGANIZER;CN="ENDE-REDD%2B":MAILTO:enderedd@marena.gob.ni
END:VEVENT
END:VCALENDAR