BEGIN:VCALENDAR
VERSION:2.0
PRODID:-//ENDE-REDD+ - ECPv4.6.26.1//NONSGML v1.0//EN
CALSCALE:GREGORIAN
METHOD:PUBLISH
X-WR-CALNAME:ENDE-REDD+
X-ORIGINAL-URL:https://www.marena.gob.ni/Enderedd
X-WR-CALDESC:Eventos para ENDE-REDD+
BEGIN:VEVENT
DTSTART;VALUE=DATE:20200423
DTEND;VALUE=DATE:20200424
DTSTAMP:20260422T113459
CREATED:20200422T223457Z
LAST-MODIFIED:20200422T223457Z
UID:4962-1587600000-1587686399@www.marena.gob.ni
SUMMARY:Taller SIG/PI-PCN Taller para consultar PDB /GTI/Puerto Cabezas
DESCRIPTION:Taller SIG/PI-PCN\nTaller para consultar PDB /GTI/Puerto Cabezas \n
URL:https://www.marena.gob.ni/Enderedd/event/taller-sig-pi-pcn-taller-para-consultar-pdb-gti-puerto-cabezas/
LOCATION:Bilwi\, Bilwi\, Bilwi\, Puerto Cabezas\, 505\, Nicaragua
CATEGORIES:Talleres
ORGANIZER;CN="ENDE-REDD%2B":MAILTO:enderedd@marena.gob.ni
END:VEVENT
END:VCALENDAR