BEGIN:VCALENDAR
VERSION:2.0
PRODID:-//ENDE-REDD+ - ECPv4.6.26.1//NONSGML v1.0//EN
CALSCALE:GREGORIAN
METHOD:PUBLISH
X-WR-CALNAME:ENDE-REDD+
X-ORIGINAL-URL:https://www.marena.gob.ni/Enderedd
X-WR-CALDESC:Eventos para ENDE-REDD+
BEGIN:VEVENT
DTSTART;TZID=UTC+0:20190301T090000
DTEND;TZID=UTC+0:20190301T170000
DTSTAMP:20260421T114840
CREATED:20190225T145838Z
LAST-MODIFIED:20190225T145838Z
UID:2882-1551430800-1551459600@www.marena.gob.ni
SUMMARY:Taller internacional sobre los nuevos estándares del marco ambiental y social en programas y proyectos de desarrollo económico
DESCRIPTION:MARENA realizará taller internacional sobre los nuevos estándares del marco ambiental y social en programas y proyectos de desarrollo económico\, contaremos con la participación de experto internacional del Banco mundial\, Dr. Mario Nanclares de nacionalidad argentina. \nFecha: viernes 01 de marzo /09:00 AM.  \nLugar: Auditorio DISUP\, MARENA\, municipio de Managua. \nParticipantes: MARENA\, INAFOR\, INTA\, MAG\, MEFCCA\, SDCC\, Gobiernos Regionales de la Costa Caribe y Pueblos Indígenas del Pacifico Centro Norte. \n
URL:https://www.marena.gob.ni/Enderedd/event/taller-internacional-sobre-los-nuevos-estandares-del-marco-ambiental-y-social-en-programas-y-proyectos-de-desarrollo-economico/
CATEGORIES:Talleres
ATTACH;FMTTYPE=image/png:https://www.marena.gob.ni/Enderedd/wp-content/uploads/2018/12/Screenshot-2018-12-17-at-12.02.04.png
END:VEVENT
END:VCALENDAR