BEGIN:VCALENDAR
VERSION:2.0
PRODID:-//ENDE-REDD+ - ECPv4.6.26.1//NONSGML v1.0//EN
CALSCALE:GREGORIAN
METHOD:PUBLISH
X-WR-CALNAME:ENDE-REDD+
X-ORIGINAL-URL:https://www.marena.gob.ni/Enderedd
X-WR-CALDESC:Eventos para ENDE-REDD+
BEGIN:VEVENT
DTSTART;VALUE=DATE:20200427
DTEND;VALUE=DATE:20200428
DTSTAMP:20260422T144901
CREATED:20200422T224059Z
LAST-MODIFIED:20200422T224059Z
UID:4968-1587945600-1588031999@www.marena.gob.ni
SUMMARY:Sesión virtual webinar sobre Programa de Reducción de Emisiones
DESCRIPTION:Sesión virtual webinar sobre Programa de Reducción de Emisiones \n
URL:https://www.marena.gob.ni/Enderedd/event/sesion-virtual-webinar-sobre-programa-de-reduccion-de-emisiones/
LOCATION:Auditorio Naturaleza\, MARENA KM 12 1/2 Carretera Norte\, Mangua\, Managua\, 505\, Nicaragua
CATEGORIES:Talleres
ORGANIZER;CN="ENDE-REDD%2B":MAILTO:enderedd@marena.gob.ni
END:VEVENT
END:VCALENDAR