BEGIN:VCALENDAR
VERSION:2.0
PRODID:-//ENDE-REDD+ - ECPv4.6.26.1//NONSGML v1.0//EN
CALSCALE:GREGORIAN
METHOD:PUBLISH
X-WR-CALNAME:ENDE-REDD+
X-ORIGINAL-URL:https://www.marena.gob.ni/Enderedd
X-WR-CALDESC:Eventos para ENDE-REDD+
BEGIN:VEVENT
DTSTART;VALUE=DATE:20200218
DTEND;VALUE=DATE:20200219
DTSTAMP:20260422T012721
CREATED:20200217T152235Z
LAST-MODIFIED:20200217T152236Z
UID:4854-1581984000-1582070399@www.marena.gob.ni
SUMMARY:Sesión de trabajo con el equipo de la mesa MRV de MARENA\, INETER e INAFOR para realizar presentación del prototipo del sistema nacional de registro de programas y proyectos REDD+./9:00am/Lugar MARENA
DESCRIPTION:Sesión de trabajo con el equipo de la mesa MRV de MARENA\, INETER e INAFOR para realizar presentación del prototipo del sistema nacional de registro de programas y proyectos REDD+./9:00am/Lugar MARENA \n
URL:https://www.marena.gob.ni/Enderedd/event/sesion-de-trabajo-con-el-equipo-de-la-mesa-mrv-de-marena-ineter-e-inafor-para-realizar-presentacion-del-prototipo-del-sistema-nacional-de-registro-de-programas-y-proyectos-redd-900am-lugar-marena/
LOCATION:MARENA Managua
CATEGORIES:Reunión
ORGANIZER;CN="ENDE-REDD%2B":MAILTO:enderedd@marena.gob.ni
END:VEVENT
END:VCALENDAR