BEGIN:VCALENDAR
VERSION:2.0
PRODID:-//ENDE-REDD+ - ECPv4.6.26.1//NONSGML v1.0//EN
CALSCALE:GREGORIAN
METHOD:PUBLISH
X-WR-CALNAME:ENDE-REDD+
X-ORIGINAL-URL:https://www.marena.gob.ni/Enderedd
X-WR-CALDESC:Eventos para ENDE-REDD+
BEGIN:VEVENT
DTSTART;VALUE=DATE:20200221
DTEND;VALUE=DATE:20200222
DTSTAMP:20260422T030606
CREATED:20200217T152406Z
LAST-MODIFIED:20200217T152406Z
UID:4856-1582243200-1582329599@www.marena.gob.ni
SUMMARY:Sesión de trabajo con el equipo de la mesa MRV de MARENA\, INETER e INAFOR para compartir los resultados de mapa de cobertura de suelo 2018 y los cambios de uso de suelo entre 2015 – 2018./9:00 am/ MARENA
DESCRIPTION:Sesión de trabajo con el equipo de la mesa MRV de MARENA\, INETER e INAFOR para compartir los resultados de mapa de cobertura de suelo 2018 y los cambios de uso de suelo entre 2015 – 2018./9:00 am/MARENA \n
URL:https://www.marena.gob.ni/Enderedd/event/sesion-de-trabajo-con-el-equipo-de-la-mesa-mrv-de-marena-ineter-e-inafor-para-compartir-los-resultados-de-mapa-de-cobertura-de-suelo-2018-y-los-cambios-de-uso-de-suelo-entre-2015-2018-900/
LOCATION:MARENA
CATEGORIES:Reunión
ORGANIZER;CN="ENDE-REDD%2B":MAILTO:enderedd@marena.gob.ni
END:VEVENT
END:VCALENDAR