BEGIN:VCALENDAR
VERSION:2.0
PRODID:-//ENDE-REDD+ - ECPv4.6.26.1//NONSGML v1.0//EN
CALSCALE:GREGORIAN
METHOD:PUBLISH
X-WR-CALNAME:ENDE-REDD+
X-ORIGINAL-URL:https://www.marena.gob.ni/Enderedd
X-WR-CALDESC:Eventos para ENDE-REDD+
BEGIN:VEVENT
DTSTART;VALUE=DATE:20200415
DTEND;VALUE=DATE:20200416
DTSTAMP:20260422T064029
CREATED:20200422T222929Z
LAST-MODIFIED:20200422T222929Z
UID:4950-1586908800-1586995199@www.marena.gob.ni
SUMMARY:Sesión convenio entre ENDE y PI-PCN
DESCRIPTION:Sesión de trabajo para revisar el contenido del Convenio entre la ENDE y los PI-PCN\,  \n
URL:https://www.marena.gob.ni/Enderedd/event/sesion-convenio-entre-ende-y-pi-pcn/
LOCATION:Auditorio Naturaleza\, MARENA KM 12 1/2 Carretera Norte\, Mangua\, Managua\, 505\, Nicaragua
CATEGORIES:Reunión
ORGANIZER;CN="ENDE-REDD%2B":MAILTO:enderedd@marena.gob.ni
END:VEVENT
END:VCALENDAR