BEGIN:VCALENDAR
VERSION:2.0
PRODID:-//ENDE-REDD+ - ECPv4.6.26.1//NONSGML v1.0//EN
CALSCALE:GREGORIAN
METHOD:PUBLISH
X-WR-CALNAME:ENDE-REDD+
X-ORIGINAL-URL:https://www.marena.gob.ni/Enderedd
X-WR-CALDESC:Eventos para ENDE-REDD+
BEGIN:VEVENT
DTSTART;VALUE=DATE:20190329
DTEND;VALUE=DATE:20190330
DTSTAMP:20260421T221637
CREATED:20190328T212415Z
LAST-MODIFIED:20190328T212415Z
UID:2998-1553817600-1553903999@www.marena.gob.ni
SUMMARY:SESION CON LIDERES DE LOS GTI DEL SECTOR DE PUERTO CABEZAS
DESCRIPTION: Este 29 de marzo\, estaremos celebrando una Sesión con líderes de los 6 GTI del sector de Puerto Cabezas para difundir el Mecanismo de Reclamos y Quejas en el marco de la Implementación del Programa de Reducción de Emisiones para el Combate al Cambio Climático y la Pobreza en la Costa Caribe\, Reserva de Biosfera BOSAWAS y Reserva Biológica Indio Maíz (ERPD). \nEsta actividad se enfocará en: \n\nCompartir y consensuar con los líderes de los Gobiernos Territoriales Indígenas (GTI) del bloque II Puerto Cabezas RACCN\, el documento del Mecanismo de Reclamos y Quejas a implementarse en el marco del ERPD\, Costa Caribe;\nIntroducir a l@s Protagonistas en el uso del sitio Web del MARENA\, (www.marena.gob.ni\, link: Ende Redd\, link: Contáctenos: presentar planteamientos-formularios de sugerencias);\nObtener insumos para mejorar el documento del Mecanismo Reclamos y Quejas del programa ERPD\, Costa Caribe y sitio Web del MARENA.\nFortalecer la Autonomía y el derecho de los pueblos indígenas y afrodescendientes a la participación libre previa e informada y restituir los derechos consignados en la Ley 28 y 445.\n\n\n\n\nGTI PRESENTES:GTI- Karatá\n\n\nGTI- TAWIRA\n\n\nGTI- Tui Yahbra\n\n\nGTI- Tui Waupasa\n\n\nGTI- Tasba Pri\n\n\nGTI- Prinzu Auhya Un\n\n\nTécnico Bloque Territorial\n\n\n\n
URL:https://www.marena.gob.ni/Enderedd/event/sesion-con-lideres-de-los-gti-del-sector-de-puerto-cabezas/
LOCATION:SERENA – PUERTO CABEZAS
ATTACH;FMTTYPE=image/jpeg:https://www.marena.gob.ni/Enderedd/wp-content/uploads/2018/11/1G3A9051.jpg
ORGANIZER;CN="ENDE-REDD%2B":MAILTO:enderedd@marena.gob.ni
END:VEVENT
END:VCALENDAR