BEGIN:VCALENDAR
VERSION:2.0
PRODID:-//ENDE-REDD+ - ECPv4.6.26.1//NONSGML v1.0//EN
CALSCALE:GREGORIAN
METHOD:PUBLISH
X-WR-CALNAME:ENDE-REDD+
X-ORIGINAL-URL:https://www.marena.gob.ni/Enderedd
X-WR-CALDESC:Eventos para ENDE-REDD+
BEGIN:VEVENT
DTSTART;TZID=UTC+0:20200828T083000
DTEND;TZID=UTC+0:20200828T120000
DTSTAMP:20260423T124633
CREATED:20200827T162611Z
LAST-MODIFIED:20200827T164927Z
UID:5227-1598603400-1598616000@www.marena.gob.ni
SUMMARY:Monitoreo de la reducción de emisiones y transferencia de titularidad de carbono
DESCRIPTION:Conferencia virtual Monitoreo de la reducción de emisiones y transferencia de titularidad de carbono. \nExpositor: Msc. Germán Obando Vargas. \nEspecialista Contabilidad de Carbono Forestal \nConsultor Banco Mundial \n
URL:https://www.marena.gob.ni/Enderedd/event/monitoreo-de-la-reduccion-de-emisiones-y-transferencia-de-titularidad-de-carbono/
LOCATION:Auditorio Naturaleza\, MARENA KM 12 1/2 Carretera Norte\, Mangua\, Managua\, 505\, Nicaragua
CATEGORIES:Talleres
ORGANIZER;CN="ENDE-REDD%2B":MAILTO:enderedd@marena.gob.ni
END:VEVENT
END:VCALENDAR