BEGIN:VCALENDAR
VERSION:2.0
PRODID:-//ENDE-REDD+ - ECPv4.6.26.1//NONSGML v1.0//EN
CALSCALE:GREGORIAN
METHOD:PUBLISH
X-WR-CALNAME:ENDE-REDD+
X-ORIGINAL-URL:https://www.marena.gob.ni/Enderedd
X-WR-CALDESC:Eventos para ENDE-REDD+
BEGIN:VEVENT
DTSTART;TZID=UTC+0:20201016T080000
DTEND;TZID=UTC+0:20201016T170000
DTSTAMP:20260423T124810
CREATED:20201109T230555Z
LAST-MODIFIED:20201109T230611Z
UID:5422-1602835200-1602867600@www.marena.gob.ni
SUMMARY:Conferencia virtual sobre Experiencia internacional en el monitoreo para la reducción de emisiones de CO2
DESCRIPTION:«Conferencia virtual sobre Experiencia internacional en el monitoreo para la reducción de emisiones de CO2.\n02:00 P.M.» \n
URL:https://www.marena.gob.ni/Enderedd/event/conferencia-virtual-sobre-experiencia-internacional-en-el-monitoreo-para-la-reduccion-de-emisiones-de-co2/
LOCATION:Auditorio Naturaleza\, MARENA KM 12 1/2 Carretera Norte\, Mangua\, Managua\, 505\, Nicaragua
CATEGORIES:Congresos,Talleres
ATTACH;FMTTYPE=image/jpeg:https://www.marena.gob.ni/Enderedd/wp-content/uploads/2019/10/IMG_20190924_093638.jpg
ORGANIZER;CN="ENDE-REDD%2B":MAILTO:enderedd@marena.gob.ni
END:VEVENT
END:VCALENDAR